BEGIN:VCALENDAR
VERSION:2.0
PRODID:-//Black Experiences &amp; Lifestyle In Canada - ECPv6.15.18//NONSGML v1.0//EN
CALSCALE:GREGORIAN
METHOD:PUBLISH
X-WR-CALNAME:Black Experiences &amp; Lifestyle In Canada
X-ORIGINAL-URL:https://blackcanadians.bealic.com
X-WR-CALDESC:Events for Black Experiences &amp; Lifestyle In Canada
REFRESH-INTERVAL;VALUE=DURATION:PT1H
X-Robots-Tag:noindex
X-PUBLISHED-TTL:PT1H
BEGIN:VTIMEZONE
TZID:America/New_York
BEGIN:DAYLIGHT
TZOFFSETFROM:-0500
TZOFFSETTO:-0400
TZNAME:EDT
DTSTART:20220313T070000
END:DAYLIGHT
BEGIN:STANDARD
TZOFFSETFROM:-0400
TZOFFSETTO:-0500
TZNAME:EST
DTSTART:20221106T060000
END:STANDARD
BEGIN:DAYLIGHT
TZOFFSETFROM:-0500
TZOFFSETTO:-0400
TZNAME:EDT
DTSTART:20230312T070000
END:DAYLIGHT
BEGIN:STANDARD
TZOFFSETFROM:-0400
TZOFFSETTO:-0500
TZNAME:EST
DTSTART:20231105T060000
END:STANDARD
BEGIN:DAYLIGHT
TZOFFSETFROM:-0500
TZOFFSETTO:-0400
TZNAME:EDT
DTSTART:20240310T070000
END:DAYLIGHT
BEGIN:STANDARD
TZOFFSETFROM:-0400
TZOFFSETTO:-0500
TZNAME:EST
DTSTART:20241103T060000
END:STANDARD
BEGIN:DAYLIGHT
TZOFFSETFROM:-0500
TZOFFSETTO:-0400
TZNAME:EDT
DTSTART:20250309T070000
END:DAYLIGHT
BEGIN:STANDARD
TZOFFSETFROM:-0400
TZOFFSETTO:-0500
TZNAME:EST
DTSTART:20251102T060000
END:STANDARD
END:VTIMEZONE
BEGIN:VTIMEZONE
TZID:UTC
BEGIN:STANDARD
TZOFFSETFROM:+0000
TZOFFSETTO:+0000
TZNAME:UTC
DTSTART:20220101T000000
END:STANDARD
END:VTIMEZONE
BEGIN:VTIMEZONE
TZID:America/Toronto
BEGIN:DAYLIGHT
TZOFFSETFROM:-0500
TZOFFSETTO:-0400
TZNAME:EDT
DTSTART:20220313T070000
END:DAYLIGHT
BEGIN:STANDARD
TZOFFSETFROM:-0400
TZOFFSETTO:-0500
TZNAME:EST
DTSTART:20221106T060000
END:STANDARD
BEGIN:DAYLIGHT
TZOFFSETFROM:-0500
TZOFFSETTO:-0400
TZNAME:EDT
DTSTART:20230312T070000
END:DAYLIGHT
BEGIN:STANDARD
TZOFFSETFROM:-0400
TZOFFSETTO:-0500
TZNAME:EST
DTSTART:20231105T060000
END:STANDARD
BEGIN:DAYLIGHT
TZOFFSETFROM:-0500
TZOFFSETTO:-0400
TZNAME:EDT
DTSTART:20240310T070000
END:DAYLIGHT
BEGIN:STANDARD
TZOFFSETFROM:-0400
TZOFFSETTO:-0500
TZNAME:EST
DTSTART:20241103T060000
END:STANDARD
END:VTIMEZONE
BEGIN:VEVENT
DTSTART;TZID=America/New_York:20240214T220000
DTEND;TZID=America/New_York:20240214T220000
DTSTAMP:20260424T003422
CREATED:20240209T224739Z
LAST-MODIFIED:20240209T224739Z
UID:32152-1707948000-1707948000@blackcanadians.bealic.com
SUMMARY:TBFF LIVE PERFORMANCES - 1
DESCRIPTION:“Simone Smithson is a soloist and seasoned background vocalist for several international artists including Toronto’s Juno nominated\, and Eddy award-winning Gospel group Kevin Adams & Voices of Praise. She also is 1/3 of a lovely wedding trio that recently sang “Why I love you” by NowThatsMajor and received online praise by the artist himself! She developed a passion for singing since her church-based junior choir days and she wants her listeners to be uplifted and inspired through her serenade.” [https://torontoblackfilm.com/event/tbff-live-performances-day-1/]
URL:https://blackcanadians.bealic.com/event/tbff-live-performances-1/
CATEGORIES:Entertainment,Festivals
ATTACH;FMTTYPE=image/png:https://blackcanadians.bealic.com/wp-content/uploads/2024/02/toronto-film-festival-orgig-2.png
END:VEVENT
BEGIN:VEVENT
DTSTART;TZID=America/New_York:20240214T110000
DTEND;TZID=America/New_York:20240219T010000
DTSTAMP:20260424T003422
CREATED:20240209T230409Z
LAST-MODIFIED:20240209T234145Z
UID:32154-1707908400-1708304400@blackcanadians.bealic.com
SUMMARY:Toronto Black Film Festival Events: Feb 14 - Feb 19\, 2024
DESCRIPTION:Feb 14\n\n\n\n7:30PM \nGOODBYE JULIA (OPENING FILM)\n\nIsabel Bader Theatre \n\n\n\n\n\n\n\n\n10PM To Midnight\nTBFF LIVE PERFORMANCES – 1\nRooftop on College\n\n\n\nFeb 15\n\n\n\n\n\n7PM\nA STORY OF BONES\nCarlton Cinema – Carlton I\, Big Room 9 \n\n\n\n\n\n\n7:30PM \nAN INTIMATE EVENING WITH PAM GRIER\nIsabel Bader Theatre\n\n\n\n\n\n\n9PM\nSEMRET\nCarlton Cinema – Carlton I\, Big Room 9 \n\n\n\n\n\n\n10PM To Midnight\nTBFF LIVE PERFORMANCES – 2\nRooftop on College\n\n\n\n\n\n\nFeb 16\n\n\n7PM\nBEING BLACK IN MONTREAL / OTTAWA / HALIFAX \nCarlton Cinema – Carlton I\, Big Room 9\n\n\n\n\n\n\n7PM\nREAL ESTATE SISTERS\nCarlton Cinema – Carlton II\n\n\n\n\n\n\n9PM\nBEING BLACK IN TORONTO / VANCOUVER / CALGARY\nCarlton Cinema – Carlton I\, Big Room 9\n\n\n\n\n\n\n9PM\nTHE BRIDE\nCarlton Cinema – Carlton II\n\n\n\n\n\n\n10PM To Midnight\nTBFF LIVE PERFORMANCES – 3\nRooftop on College\n\n\n\nFeb 17\n\n\n\n\n\n\n11AM \nMASTERING GRANT WRITING: A PRACTICE WORKSHOP\nCarlton Cinema\n\n\n\n\n\n\n12:30PM\nWELCOME TO BELL MEDIA\nCarlton Cinema\n\n\n\n\n\n\n1:30PM\nHOW TO CREATE A STRONG CHARACTER (ACTORS\, DIRECTORS & WRITERS)\nCarlton Cinema\n\n\n\n\n\n\n1PM\nIT TAKES A VILLAGE\nCarlton Cinema – Carlton I\, Big Room 9 \n\n\n\n\n\n\n3PM\nBLACK MOTHERS LOVE AND RESIST\nCarlton Cinema – Carlton II\n\n\n\n\n\n\n3PM \nIS THE ENTERTAINMENT INDUSTRY LOSING THE FIGHT FOR DIVERSITY AND INCLUSION\nCarlton Cinema\n\n\n\n\n\n\n3PM\nMANGA D’TERRA\nCarlton Cinema – Carlton I\, Big Room 9 \n\n\n\n\n\n\n5PM\nNARRATIVE SHORT SERIES 1\nCarlton Cinema – Carlton II\n\n\n\n\n\n\n5PM\nTRIBUTE TO CHARLES OFFICER\nCarlton Cinema – Carlton I\, Big Room 9 \n\n\n\n\n\n\n7PM\nBAD LIKE BROOKLYN DANCEHALL\nCarlton Cinema – Carlton I\, Big Room 9\n\n\n\n\n\n\n7PM\nNARRATIVE SHORT SERIES 2\nCarlton Cinema – Carlton II\n\n\n\n\n\n\n9PM\nDANCING IN A-YARD\nCarlton Cinema – Carlton II\n\n\n\n\n\n\n9PM\nSWAY\nCarlton Cinema – Carlton I\, Big Room 9 \n\n\n\n\n\n\n10PM To 1AM\nTBFF LIVE PERFORMANCES – Day 4\nRooftop on College\n\n\n\n\n\n\n\nFeb 18\n\n\n1PM\nNARRATIVE SHORT SERIES 3\nCarlton Cinema – Carlton I\, Big Room 9\n\n\n\n\n\n\n1PM\nSTILL WE RISE\nCarlton Cinema – Carlton II\n\n\n\n\n\n\n2PM\nCAREER PATH – THE SKILLS OF A STRONG LINE PRODUCER\nOn Facebook\n\n\n\n\n\n\n3PM\nDOCUMENTARY SHORT SERIES\nCarlton Cinema – Carlton II\n\n\n\n\n\n\n3PM\nNARRATIVE SHORT SERIES 4\nCarlton Cinema – Carlton I\, Big Room 9\n\n\n\n\n\n\n5PM\nNARRATIVE SHORT SERIES 5\nCarlton Cinema – Carlton I\, Big Room 9\n\n\n\n\n\n\n5PM\nWHO I AM NOT\nCarlton Cinema – Carlton II\n\n\n\n\n\n\n7PM\nTHE 50 (CLOSING FILM)\nCarlton Cinema – Carlton I\, Big Room 9 \n\n\n\n\n\n\n10PM To 1AM\nTBFF LIVE PERFORMANCES – Day 5\nRooftop on College\n\n\nFeb 19\n\n\n\n11H30 AM -11H45 AM\nTBFF KIDS FESTIVAL: BOOK READING\nCarlton Cinema – Carlton II\n\n\n\n\n\n\n11AM\nTBFF KIDS FESTIVAL: POWER OF GRATITUDE YOGA\nCarlton Cinema – Carlton I\, Big Room 9\n\n\n\n\n\n\n12PM – 1H15PM\nTBFF KIDS FESTIVAL: AFRO CARIBBEAN DANCE\nCarlton Cinema – Carlton II\n\n\n\n\n\n\n1PM – 3PM\nTBFF KIDS FESTIVAL: ARTS N CRAFTS\nCarlton Cinema – Carlton II\n\n\n\n\n\n\n1H30PM – 2H15PM\nTBFF KIDS FESTIVAL: STORYTELLING\nCarlton Cinema – Carlton II\n\n\n\n\n\n\n1PM – 2H45PM\nTBFF KIDS FESTIVAL: SUNNY’S QUEST SCREENING\nCarlton Cinema – Carlton I\, Big Room 9\n\n\n\n\n\n\n3PM\nTBFF KIDS FESTIVAL: THABO AND THE RHINO CASE SCREENING\nCarlton Cinema – Carlton I\, Big Room 9 \n\n\n\n\n\n\n11H15 AM – 1PM\nTBFF KIDS FESTIVAL: ARTS N CRAFTS\nCarlton Cinema – Carlton II
URL:https://blackcanadians.bealic.com/event/toronto-black-film-festival-events-feb-14-feb-19-2024/
CATEGORIES:Entertainment,Festivals,Music
ATTACH;FMTTYPE=image/png:https://blackcanadians.bealic.com/wp-content/uploads/2024/02/toronto-film-festinval-mod.png
END:VEVENT
BEGIN:VEVENT
DTSTART;TZID=America/New_York:20231209T225500
DTEND;TZID=America/New_York:20231210T030000
DTSTAMP:20260424T003422
CREATED:20231031T214500Z
LAST-MODIFIED:20231031T214626Z
UID:4957-1702162500-1702177200@blackcanadians.bealic.com
SUMMARY:Steely Bashment ( Black & Gold Edition)
DESCRIPTION:Spade Bar & Lounge\,\n\n\n3580 Mcnicoll Avenue\, Scarborough\, Toronto\, Ontario\, Canada
URL:https://blackcanadians.bealic.com/event/steely-bashment-black-gold-edition/
CATEGORIES:Entertainment
ATTACH;FMTTYPE=image/png:https://blackcanadians.bealic.com/wp-content/uploads/2023/11/bealic-color-logo-bw150-e1700082010735.png
END:VEVENT
BEGIN:VEVENT
DTSTART;TZID=UTC:20231125T220000
DTEND;TZID=UTC:20231126T030000
DTSTAMP:20260424T003422
CREATED:20231031T222609Z
LAST-MODIFIED:20231031T222609Z
UID:4970-1700949600-1700967600@blackcanadians.bealic.com
SUMMARY:THE REMINISCE CITY • ALL BLACK AFFAIR • DANCEHALL & REGGAE EDITION
DESCRIPTION:SATURDAY\, NOVEMBER 25\, 2023 \nTHE REMINISCE CITY ALL BLACK AFFAIR – DANCE HALL & REGGAE EDITION \n@KInetic365.live’s x @reminiscecity \nThe hypest 90s and 2000s Ol’Skool Party in the GTA makes its return for the 3rd Instalment \nrem•i•nisce city ALL BLACK AFFAIR (UPSCALE 90s & 2000s DANCE HALL & REGGAE EDITION) ⚫️🔴🟡🟢 \nALSO PLAYING 90s & 2000s R&B\, HIP HOP\, SOCA\, & CLASSIC HOUSE CLUB ANTHEMS AS USUAL\,  BUT DURING PRIME TIME WE ARE HIGHLIGHTING DANCE HALL & REGGAE CLASSICS FROM THE 90s & 2000s ERA!!! 🎧 \nINSIDE THE ULTRA CHIC @acquasupperclub  \n50 PRINCE EDWARD ISLAND CRESCENT (TORONTO) • ON THE EXHIBITION GROUNDS!!! \n10PM – 3AM \nSECURE YOUR TIER 1 $20 ADV. EARLY BIRD TICKETS (ONLY 100 AVAILABLE)!!! \nTIER 2 $25 ADV. TICKETS (ONLY 150 AVAILABLE)!!!  \nTICKET LINK IN @kinetic365.live x @reminiscecity BIOS!!! 🔑 \n$35 GENERAL ADMISSION AT THE DOOR!!!! \nSAGITTARIUS CELEBRATE YOUR BIRTHDAY WITH US!!! ALL BIRTHDAY CELEBRATIONS WILL BE PRIORITIZED! WE SUGGEST YOU ORGANIZE EARLY!!! \nREMINISCE CITY ALL-STAR DJs \n🎧 DJ Jason Chambers \n🎧 Yes Max B \nSPECIAL GUEST ALL-STARS DJs \n🎧 DJ Skitz \n🎧 Blaxx Dun Da Place \n🎧 Fireistic Steenie \nFor more information\, please text Kinetic at 647.770.0760 \n28+ MATURE CLIENTELE • UPSCALE STYLE CODE \nCOME EXPERIENCE THE DIFFERENCE!!! \n@kinetic365.live’s REMINISCE CITY \nPOWERED BY \n@reminiscecity \n@blackwinesociety \n@k.imwilliams
URL:https://blackcanadians.bealic.com/event/the-reminisce-city-all-black-affair-dancehall-reggae-edition/
LOCATION:Acqua Supper Club\, 50\, Prince Edward Island Crescent\, Toronto\,\, Ontario\, Canada
CATEGORIES:Entertainment
ATTACH;FMTTYPE=image/png:https://blackcanadians.bealic.com/wp-content/uploads/2023/11/bealic-color-logo-bw150-e1700082010735.png
END:VEVENT
BEGIN:VEVENT
DTSTART;TZID=UTC:20231125T220000
DTEND;TZID=UTC:20231126T030000
DTSTAMP:20260424T003422
CREATED:20231031T221359Z
LAST-MODIFIED:20231031T221625Z
UID:4966-1700949600-1700967600@blackcanadians.bealic.com
SUMMARY:Back In Black 2023
DESCRIPTION:Venue: District Lounge\,\n1211 Kingston Rd\, Pickering\, Ontario\, Canada
URL:https://blackcanadians.bealic.com/event/back-in-black-2023/
LOCATION:District Lounge\, 1211 Kingston Rd\, Pickering\,\, Ontario\, Canada
CATEGORIES:Entertainment
ATTACH;FMTTYPE=image/png:https://blackcanadians.bealic.com/wp-content/uploads/2023/11/bealic-color-logo-bw150-e1700082010735.png
END:VEVENT
BEGIN:VEVENT
DTSTART;TZID=UTC:20231125T173000
DTEND;TZID=UTC:20231126T020000
DTSTAMP:20260424T003422
CREATED:20231031T220506Z
LAST-MODIFIED:20231031T220506Z
UID:4963-1700933400-1700964000@blackcanadians.bealic.com
SUMMARY:Sexy in Black
DESCRIPTION:Sexy in Black will be a fantastic evening filled with great food\, music\, and plenty of fun memories. It’s going to be a night to remember as Super Charge Sound Station teamed up with Montreal’s best\, Renegade International. \nTicket are available online or contact Super Charge Sound Station \nVenue: \nGizio Recreation & Banquet Centre\,\n288\, Kemp Road West\, Grimsby\, Ontario\, Canada
URL:https://blackcanadians.bealic.com/event/sexy-in-black/
CATEGORIES:Entertainment
ATTACH;FMTTYPE=image/png:https://blackcanadians.bealic.com/wp-content/uploads/2023/11/bealic-color-logo-bw150-e1700082010735.png
END:VEVENT
BEGIN:VEVENT
DTSTART;TZID=America/New_York:20231111T170000
DTEND;TZID=America/New_York:20231111T220000
DTSTAMP:20260424T003422
CREATED:20231031T213721Z
LAST-MODIFIED:20231031T213923Z
UID:4952-1699722000-1699740000@blackcanadians.bealic.com
SUMMARY:Black Cake Clash 2023
DESCRIPTION:Join us for the 2nd annual black cake bash dinner and dance at Woodbine Banquet Hall & Convention Center\,\n30 Vice Regent Boulevard\, Etobicoke\, Toronto\, Ontario\, Canada
URL:https://blackcanadians.bealic.com/event/black-cake-clash-2023/
CATEGORIES:Entertainment
ATTACH;FMTTYPE=image/png:https://blackcanadians.bealic.com/wp-content/uploads/2023/11/bealic-color-logo-bw150-e1700082010735.png
END:VEVENT
BEGIN:VEVENT
DTSTART;TZID=UTC:20231104T220000
DTEND;TZID=UTC:20231105T030000
DTSTAMP:20260424T003422
CREATED:20231031T215535Z
LAST-MODIFIED:20231031T215535Z
UID:4960-1699135200-1699153200@blackcanadians.bealic.com
SUMMARY:ONYX ALL BLACK SCORPIO AFFAIR
DESCRIPTION:Rum Diaries Entertainment Group Presents – \nONYX ALL BLACK SCORPIO AFFAIR \nSaturday November 4th \nVenue: Diamonds Lounge\, 2200 Brock Road Pickering\, Toronto \nToronto’s Largest Scorpio Birthday Bash!
URL:https://blackcanadians.bealic.com/event/onyx-all-black-scorpio-affair/
CATEGORIES:Entertainment
ATTACH;FMTTYPE=image/png:https://blackcanadians.bealic.com/wp-content/uploads/2023/11/bealic-color-logo-bw150-e1700082010735.png
END:VEVENT
BEGIN:VEVENT
DTSTART;TZID=America/Toronto:20230803T190000
DTEND;TZID=America/Toronto:20230803T190000
DTSTAMP:20260424T003422
CREATED:20230407T175758Z
LAST-MODIFIED:20230407T175758Z
UID:689-1691089200-1691089200@blackcanadians.bealic.com
SUMMARY:King and Queen Band Show
DESCRIPTION:The King and Queen show has traditionally kicked off the Toronto Caribbean Carnival weekend every year since the beginning. The leaders of Caribana Mas Bands will put on their showcase costumes and perform for the Parade judges and an enthusiastic crowd. Male and female competitors are judged on the details of costumes\, how that costume represents the theme the Mas Bands will perform during the 2023 Caribbean Carnival Parade and the performance of the leader. At the end of the night\, the King and Queen are crowned. \nInteresting Historical Fact: In 1971\, Clive Brand took the competition to a whole new level. Lighting flares\, to better display the intricacies of his elaborate costume\, Clive inadvertently lit his very expensive outfit on fire. He was forced to rip it off mid-performance and throw it into Lake Ontario! That night Clive Brand won the honour of being crowned Caribana King 1971. Awesome! \nPurchase tickets by visiting www.torontocarnival.ca \n(content source: https://www.caribanatoronto.com/event/kingandqueenshow)
URL:https://blackcanadians.bealic.com/event/king-and-queen-band-show/
LOCATION:King and Queen Band Show\, Lamport Stadium\, 1151 King Street West\, Toronto\, ON\, Toronto\, ON
CATEGORIES:Entertainment,Festivals,Music
ATTACH;FMTTYPE=image/png:https://blackcanadians.bealic.com/wp-content/uploads/2023/04/caribana-1-2023.png
END:VEVENT
BEGIN:VEVENT
DTSTART;VALUE=DATE:20230803
DTEND;VALUE=DATE:20230808
DTSTAMP:20260424T003422
CREATED:20230407T172210Z
LAST-MODIFIED:20230407T172210Z
UID:680-1691020800-1691452799@blackcanadians.bealic.com
SUMMARY:Caribana 2023
DESCRIPTION:Feel the vibes of back home in the islands with North America’s largest carnival parade / festival. \nHere are some key dates: \n\nGrande Parade 2023\, Sat. Aug. 5\nExhibition Place & Lakeshore Boulevard\nKing and Queen Band Show\,Thu. Aug. 3\, Lamport Stadium\nCarnival 2023 Official Launch\, Tue. Jul. 11\, Nathan Phillips Square\, City Hall
URL:https://blackcanadians.bealic.com/event/caribana-2023/
LOCATION:Exhibition Place & Lakeshore Boulevard\, Lakeshore Boulevard\, Toronoto\, Canada
CATEGORIES:Entertainment,Festivals,Music
ATTACH;FMTTYPE=image/png:https://blackcanadians.bealic.com/wp-content/uploads/2023/04/caribana-2023.png
END:VEVENT
BEGIN:VEVENT
DTSTART;TZID=America/Toronto:20230711T110000
DTEND;TZID=America/Toronto:20230711T200000
DTSTAMP:20260424T003422
CREATED:20230407T181615Z
LAST-MODIFIED:20230407T182009Z
UID:696-1689073200-1689105600@blackcanadians.bealic.com
SUMMARY:Caribana Carnival 2023 Official Launch
DESCRIPTION:Carnival 2023 Official Launch @ Nathan Phillips Square\, City Hall\nPlease note that this date is tentative date and subject to change. Check Caribana website for any changes. \nThe Festival Season begins with the Official Launch ceremony. This kickoff event gives the city of Toronto a taste of what’s to come in the upcoming weeks ahead. There is an array of performances by popular Caribbean music artists. It is a cultural showcase and celebration of the creative spirit of the Toronto Caribbean Carnival. \nThe Band Leaders for the parade showcase their elaborate costumes that will be presented in the Parade. As well\, you will be able to taste some of the Caribbean’s traditional and favourite foods that will be available at many of the Festival events. \n(Content source: https://www.caribanatoronto.com)
URL:https://blackcanadians.bealic.com/event/caribana-carnival-2023-official-launch/
LOCATION:Caribana 2023 Official Launch\, Nathan Phillips Square\, City Hall\, ON\, Toronto\, ON\, Canada
CATEGORIES:Caribana Special Event,Entertainment,Festivals
ATTACH;FMTTYPE=image/png:https://blackcanadians.bealic.com/wp-content/uploads/2023/04/caribana-4-2023.png
END:VEVENT
BEGIN:VEVENT
DTSTART;TZID=America/Toronto:20230610T210000
DTEND;TZID=America/Toronto:20230610T210000
DTSTAMP:20260424T003422
CREATED:20230407T162744Z
LAST-MODIFIED:20230407T164144Z
UID:674-1686430800-1686430800@blackcanadians.bealic.com
SUMMARY:Reggae Fest
DESCRIPTION:Reggae Fest Toronto – The biggest Afro/Caribbean dance party in the U.S.is finally coming to Toronto. \n\n\nGiving you the best of Dancehall\, Afrobeats\, Soca\, Reggae\, Amapiano & more. \nBuy Your Tickets Now.
URL:https://blackcanadians.bealic.com/event/reggae-fest/
LOCATION:History\, 1663 Queen ST. East\, Toronto\, ON\, M4L 1G5\, Canada
CATEGORIES:Entertainment,Music
ATTACH;FMTTYPE=image/png:https://blackcanadians.bealic.com/wp-content/uploads/2023/04/Reggae_Fest_2023.png
END:VEVENT
END:VCALENDAR